BEGIN:VCALENDAR
VERSION:2.0
PRODID:-//fishsonoma.org//NONSGML kigkonsult.se iCalcreator 2.30.10//
CALSCALE:GREGORIAN
METHOD:PUBLISH
UID:5c8202ff-d0d3-4d77-9fbd-f2eabea2efee
X-WR-CALDESC:For age 60+. Pick up packs of 5 frozen meals with fresh fruits
  and milk at Vintage House on Mondays between 11 a.m. and noon. To enroll 
 contact Council on Aging at 707-525-0143.
X-WR-RELCALID:1c2d26fac6d13ea5b60a0742bbbf9b12
X-WR-TIMEZONE:America/Los_Angeles
BEGIN:VTIMEZONE
TZID:America/Los_Angeles
BEGIN:STANDARD
TZNAME:PST
DTSTART:20261101T020000
TZOFFSETFROM:-0700
TZOFFSETTO:-0800
RDATE:20271107T020000
RDATE:20281105T020000
END:STANDARD
BEGIN:DAYLIGHT
TZNAME:PDT
DTSTART:20270314T020000
TZOFFSETFROM:-0800
TZOFFSETTO:-0700
RDATE:20280312T020000
END:DAYLIGHT
END:VTIMEZONE
BEGIN:VEVENT
UID:5cf88d1c-8fc7-4f8d-b926-b18f127445cc
DTSTAMP:20260422T040304Z
DESCRIPTION:For age 60+. Pick up packs of 5 frozen meals with fresh fruits 
 and milk at Vintage House on Mondays between 11 a.m. and noon. To enroll c
 ontact Council on Aging at 707-525-0143.
DTSTART;TZID=America/Los_Angeles:20270531T110000
DTEND;TZID=America/Los_Angeles:20270531T120000
LOCATION:264 First St. East\, Sonoma\, CA 95476 US
SUMMARY:Council on Aging 5 meal packs
END:VEVENT
END:VCALENDAR
