BEGIN:VCALENDAR
VERSION:2.0
PRODID:-//fishsonoma.org//NONSGML kigkonsult.se iCalcreator 2.30.10//
CALSCALE:GREGORIAN
METHOD:PUBLISH
UID:25de6f6f-ca65-460f-9eaf-d26e51159446
X-WR-CALDESC:Redwood Empire Food Bank distribution
X-WR-RELCALID:9f2793ee8e1ac53bdc6bc19b56f47495
X-WR-TIMEZONE:America/Los_Angeles
BEGIN:VTIMEZONE
TZID:America/Los_Angeles
BEGIN:STANDARD
TZNAME:PST
DTSTART:20261101T020000
TZOFFSETFROM:-0700
TZOFFSETTO:-0800
RDATE:20271107T020000
END:STANDARD
BEGIN:DAYLIGHT
TZNAME:PDT
DTSTART:20270314T020000
TZOFFSETFROM:-0800
TZOFFSETTO:-0700
RDATE:20280312T020000
END:DAYLIGHT
END:VTIMEZONE
BEGIN:VEVENT
UID:914a21b1-cf77-421c-9144-ba67865bb306
DTSTAMP:20260421T210314Z
DESCRIPTION:Redwood Empire Food Bank distribution
DTSTART;TZID=America/Los_Angeles:20270413T163000
DTEND;TZID=America/Los_Angeles:20270413T173000
LOCATION:16290 Arnold Drive\, Sonoma\, CA 95476 US
SUMMARY:REFB at St. Andrew's Church
END:VEVENT
END:VCALENDAR
