BEGIN:VCALENDAR
VERSION:2.0
PRODID:-//fishsonoma.org//NONSGML kigkonsult.se iCalcreator 2.30.10//
CALSCALE:GREGORIAN
METHOD:PUBLISH
UID:f9ef8c7e-12db-4d2b-ae4f-961f106a6ece
X-WR-CALDESC:Seventh Day Adventist Church food pantry. Call ahead at 707-99
 6-2008 for Thursday pickup\,
X-WR-RELCALID:062f75f8abdf541a4ef0b056634cda35
X-WR-TIMEZONE:America/Los_Angeles
BEGIN:VTIMEZONE
TZID:America/Los_Angeles
BEGIN:STANDARD
TZNAME:PST
DTSTART:20261101T020000
TZOFFSETFROM:-0700
TZOFFSETTO:-0800
RDATE:20271107T020000
END:STANDARD
BEGIN:DAYLIGHT
TZNAME:PDT
DTSTART:20270314T020000
TZOFFSETFROM:-0800
TZOFFSETTO:-0700
RDATE:20280312T020000
END:DAYLIGHT
END:VTIMEZONE
BEGIN:VEVENT
UID:31380c55-13c6-4661-84a7-af7f35c4f17f
DTSTAMP:20260421T191547Z
DESCRIPTION:Seventh Day Adventist Church food pantry. Call ahead at 707-996
 -2008 for Thursday pickup\,
DTSTART;TZID=America/Los_Angeles:20270325T120000
DTEND;TZID=America/Los_Angeles:20270325T130000
LOCATION:20575 Broadway\, Sonoma\, CA 95476 US
SUMMARY:SDA Food Pantry
END:VEVENT
END:VCALENDAR
