BEGIN:VCALENDAR
VERSION:2.0
PRODID:-//fishsonoma.org//NONSGML kigkonsult.se iCalcreator 2.30.10//
CALSCALE:GREGORIAN
METHOD:PUBLISH
UID:e232e934-895c-4340-958a-3afed078e25a
X-WR-CALDESC:Redwood Empire Food Bank distribution
X-WR-RELCALID:cda5c0f053b7aca78c2b065fb73bebe4
X-WR-TIMEZONE:America/Los_Angeles
BEGIN:VTIMEZONE
TZID:America/Los_Angeles
BEGIN:STANDARD
TZNAME:PST
DTSTART:20261101T020000
TZOFFSETFROM:-0700
TZOFFSETTO:-0800
RDATE:20271107T020000
END:STANDARD
BEGIN:DAYLIGHT
TZNAME:PDT
DTSTART:20270314T020000
TZOFFSETFROM:-0800
TZOFFSETTO:-0700
RDATE:20280312T020000
END:DAYLIGHT
END:VTIMEZONE
BEGIN:VEVENT
UID:95e695e1-9647-41f6-b6a4-f74fc49f284a
DTSTAMP:20260422T071727Z
DESCRIPTION:Redwood Empire Food Bank distribution
DTSTART;TZID=America/Los_Angeles:20270323T083000
DTEND;TZID=America/Los_Angeles:20270323T093000
LOCATION:601 Agua Caliente Road W\, Sonoma\, CA 95476 US
SUMMARY:REFB at St. Leo's
END:VEVENT
END:VCALENDAR
