BEGIN:VCALENDAR
VERSION:2.0
PRODID:-//fishsonoma.org//NONSGML kigkonsult.se iCalcreator 2.30.10//
CALSCALE:GREGORIAN
METHOD:PUBLISH
UID:4e0950ea-1b14-4ab3-b22e-cf883cf43079
X-WR-CALDESC:Redwood Empire Food Bank distribution
X-WR-RELCALID:493147fcdbd06d62c7297782cc970f90
X-WR-TIMEZONE:America/Los_Angeles
BEGIN:VTIMEZONE
TZID:America/Los_Angeles
BEGIN:STANDARD
TZNAME:PST
DTSTART:20261101T020000
TZOFFSETFROM:-0700
TZOFFSETTO:-0800
RDATE:20271107T020000
END:STANDARD
BEGIN:DAYLIGHT
TZNAME:PDT
DTSTART:20270314T020000
TZOFFSETFROM:-0800
TZOFFSETTO:-0700
RDATE:20280312T020000
END:DAYLIGHT
END:VTIMEZONE
BEGIN:VEVENT
UID:68da0819-5151-474b-9b9e-18428a23e205
DTSTAMP:20260421T205750Z
DESCRIPTION:Redwood Empire Food Bank distribution
DTSTART;TZID=America/Los_Angeles:20270316T163000
DTEND;TZID=America/Los_Angeles:20270316T173000
LOCATION:16290 Arnold Drive\, Sonoma\, CA 95476 US
SUMMARY:REFB at St. Andrew's Church
END:VEVENT
END:VCALENDAR
