BEGIN:VCALENDAR
VERSION:2.0
PRODID:-//fishsonoma.org//NONSGML kigkonsult.se iCalcreator 2.30.10//
CALSCALE:GREGORIAN
METHOD:PUBLISH
UID:4b9c2043-90c8-4e8f-9df6-f7765af2b10b
X-WR-CALDESC:
X-WR-RELCALID:90e11c539f800abb54d2615a6c6c3fb6
X-WR-TIMEZONE:America/Los_Angeles
BEGIN:VTIMEZONE
TZID:America/Los_Angeles
BEGIN:STANDARD
TZNAME:PST
DTSTART:20261101T020000
TZOFFSETFROM:-0700
TZOFFSETTO:-0800
RDATE:20271107T020000
END:STANDARD
BEGIN:DAYLIGHT
TZNAME:PDT
DTSTART:20270314T020000
TZOFFSETFROM:-0800
TZOFFSETTO:-0700
RDATE:20280312T020000
END:DAYLIGHT
END:VTIMEZONE
BEGIN:VEVENT
UID:2f991399-6d60-417a-800f-293de3f4d69d
DTSTAMP:20260421T205317Z
DESCRIPTION:
DTSTART;TZID=America/Los_Angeles:20270309T130000
DTEND;TZID=America/Los_Angeles:20270309T140000
LOCATION:18800 Beatrice Dr.\, Sonoma\, AL 95476 US
SUMMARY:REFB at Oak Ridge Senior Apts
END:VEVENT
END:VCALENDAR
