BEGIN:VCALENDAR
VERSION:2.0
PRODID:-//fishsonoma.org//NONSGML kigkonsult.se iCalcreator 2.30.10//
CALSCALE:GREGORIAN
METHOD:PUBLISH
UID:0d4252c4-cce4-49ce-8b80-903a220ad35f
X-WR-CALDESC:Redwood Empire Food Bank distribution at Sonoma Valley Communi
 ty Health Center
X-WR-RELCALID:05d9713218f00a515650d879c22a6d61
X-WR-TIMEZONE:America/Los_Angeles
BEGIN:VTIMEZONE
TZID:America/Los_Angeles
BEGIN:STANDARD
TZNAME:PST
DTSTART:20261101T020000
TZOFFSETFROM:-0700
TZOFFSETTO:-0800
RDATE:20271107T020000
END:STANDARD
BEGIN:DAYLIGHT
TZNAME:PDT
DTSTART:20260308T020000
TZOFFSETFROM:-0800
TZOFFSETTO:-0700
RDATE:20270314T020000
RDATE:20280312T020000
END:DAYLIGHT
END:VTIMEZONE
BEGIN:VEVENT
UID:b4df27a5-e6c3-49cd-ade2-dfd8d2ca88af
DTSTAMP:20260421T205608Z
DESCRIPTION:Redwood Empire Food Bank distribution at Sonoma Valley Communit
 y Health Center
DTSTART;TZID=America/Los_Angeles:20270305T083000
DTEND;TZID=America/Los_Angeles:20270305T093000
LOCATION:19270 Sonoma Highway\, Sonoma\, CA 95476 US
SUMMARY:REFB at Health Center
END:VEVENT
END:VCALENDAR
