BEGIN:VCALENDAR
VERSION:2.0
PRODID:-//fishsonoma.org//NONSGML kigkonsult.se iCalcreator 2.30.10//
CALSCALE:GREGORIAN
METHOD:PUBLISH
UID:13eb895f-e902-4686-9210-ac1a77c2544f
X-WR-CALDESC:3 days of groceries available weekdays from 1 p.m. - 2:30 p.m.
   You don't need to sign up in advance\, but the schedule is subject to ch
 ange\; you can check by calling the office at (707) 935-7314.
X-WR-RELCALID:e4fb9be6af83731c74de501b7c4be16e
X-WR-TIMEZONE:America/Los_Angeles
BEGIN:VTIMEZONE
TZID:America/Los_Angeles
BEGIN:STANDARD
TZNAME:PST
DTSTART:20261101T020000
TZOFFSETFROM:-0700
TZOFFSETTO:-0800
RDATE:20271107T020000
END:STANDARD
BEGIN:DAYLIGHT
TZNAME:PDT
DTSTART:20260308T020000
TZOFFSETFROM:-0800
TZOFFSETTO:-0700
RDATE:20270314T020000
RDATE:20280312T020000
END:DAYLIGHT
END:VTIMEZONE
BEGIN:VEVENT
UID:ed72e9f5-a3d1-4b42-9369-4ccef4a860f8
DTSTAMP:20260421T121857Z
DESCRIPTION:3 days of groceries available weekdays from 1 p.m. - 2:30 p.m. 
  You don't need to sign up in advance\, but the schedule is subject to cha
 nge\; you can check by calling the office at (707) 935-7314.
DTSTART;TZID=America/Los_Angeles:20270224T130000
DTEND;TZID=America/Los_Angeles:20270224T143000
LOCATION:469 3rd St West\, Sonoma\, AL 95476 US
SUMMARY:St Francis Food Pantry
END:VEVENT
END:VCALENDAR
