BEGIN:VCALENDAR
VERSION:2.0
PRODID:-//fishsonoma.org//NONSGML kigkonsult.se iCalcreator 2.30.10//
CALSCALE:GREGORIAN
METHOD:PUBLISH
UID:1b11b08e-fc79-4c1d-af30-39fa861bf6f2
X-WR-CALDESC:Redwood Empire Food Bank Distribution at Seven Flags Mobile Ho
 me Park
X-WR-RELCALID:85f260c7f3ed374b776a07fc3f51ef20
X-WR-TIMEZONE:America/Los_Angeles
BEGIN:VTIMEZONE
TZID:America/Los_Angeles
BEGIN:STANDARD
TZNAME:PST
DTSTART:20261101T020000
TZOFFSETFROM:-0700
TZOFFSETTO:-0800
RDATE:20271107T020000
END:STANDARD
BEGIN:DAYLIGHT
TZNAME:PDT
DTSTART:20260308T020000
TZOFFSETFROM:-0800
TZOFFSETTO:-0700
RDATE:20270314T020000
RDATE:20280312T020000
END:DAYLIGHT
END:VTIMEZONE
BEGIN:VEVENT
UID:bef519c1-1a98-4d96-a4eb-a16f48a8eecc
DTSTAMP:20260421T120745Z
DESCRIPTION:Redwood Empire Food Bank Distribution at Seven Flags Mobile Hom
 e Park
DTSTART;TZID=America/Los_Angeles:20270223T130000
DTEND;TZID=America/Los_Angeles:20270223T140000
LOCATION:1400 Watmaugh Road\, Sonoma\, CA 95476 US
SUMMARY:REFB at Seven Flags Mobile Park
END:VEVENT
END:VCALENDAR
