BEGIN:VCALENDAR
VERSION:2.0
PRODID:-//fishsonoma.org//NONSGML kigkonsult.se iCalcreator 2.30.10//
CALSCALE:GREGORIAN
METHOD:PUBLISH
UID:496275c5-a0ad-4406-9503-efca1b0a2678
X-WR-CALDESC:Redwood Empire Food Bank distribution at Sonoma Creek Senior H
 ousing.
X-WR-RELCALID:1235589808c8d8cf106c0556bd83ea00
X-WR-TIMEZONE:America/Los_Angeles
BEGIN:VTIMEZONE
TZID:America/Los_Angeles
BEGIN:STANDARD
TZNAME:PST
DTSTART:20261101T020000
TZOFFSETFROM:-0700
TZOFFSETTO:-0800
RDATE:20271107T020000
END:STANDARD
BEGIN:DAYLIGHT
TZNAME:PDT
DTSTART:20260308T020000
TZOFFSETFROM:-0800
TZOFFSETTO:-0700
RDATE:20270314T020000
RDATE:20280312T020000
END:DAYLIGHT
END:VTIMEZONE
BEGIN:VEVENT
UID:c8e71a87-f33e-4dd1-bc0f-bef534901bb9
DTSTAMP:20260421T121613Z
DESCRIPTION:Redwood Empire Food Bank distribution at Sonoma Creek Senior Ho
 using.
DTSTART;TZID=America/Los_Angeles:20270216T130000
DTEND;TZID=America/Los_Angeles:20270216T140000
LOCATION:809 Oregon St.\, Sonoma\, CA 95476 US
SUMMARY:REFB at Sonoma Creek Senior Housing
END:VEVENT
END:VCALENDAR
