BEGIN:VCALENDAR
VERSION:2.0
PRODID:-//fishsonoma.org//NONSGML kigkonsult.se iCalcreator 2.30.10//
CALSCALE:GREGORIAN
METHOD:PUBLISH
UID:4e51309b-1c53-47ae-8dbb-ba3ce30f2472
X-WR-CALDESC:
X-WR-RELCALID:692a2c27c17ed6fe1ab528b6a1dd0f74
X-WR-TIMEZONE:America/Los_Angeles
BEGIN:VTIMEZONE
TZID:America/Los_Angeles
BEGIN:STANDARD
TZNAME:PST
DTSTART:20261101T020000
TZOFFSETFROM:-0700
TZOFFSETTO:-0800
RDATE:20271107T020000
END:STANDARD
BEGIN:DAYLIGHT
TZNAME:PDT
DTSTART:20260308T020000
TZOFFSETFROM:-0800
TZOFFSETTO:-0700
RDATE:20270314T020000
RDATE:20280312T020000
END:DAYLIGHT
END:VTIMEZONE
BEGIN:VEVENT
UID:69128d40-c49a-4826-b284-5976fccf6d0f
DTSTAMP:20260421T121316Z
DESCRIPTION:
DTSTART;TZID=America/Los_Angeles:20270209T130000
DTEND;TZID=America/Los_Angeles:20270209T140000
LOCATION:18800 Beatrice Dr.\, Sonoma\, AL 95476 US
SUMMARY:REFB at Oak Ridge Senior Apts
END:VEVENT
END:VCALENDAR
