BEGIN:VCALENDAR
VERSION:2.0
PRODID:-//fishsonoma.org//NONSGML kigkonsult.se iCalcreator 2.30.10//
CALSCALE:GREGORIAN
METHOD:PUBLISH
UID:2399b9a5-b643-4d26-9a97-a898f2b5d8b4
X-WR-CALDESC:For age 60+. Pick up packs of 5 frozen meals with fresh fruits
  and milk at Vintage House on Mondays between 11 a.m. and noon. To enroll 
 contact Council on Aging at 707-525-0143.
X-WR-RELCALID:474523f6319a66aca76dc80de759999e
X-WR-TIMEZONE:America/Los_Angeles
BEGIN:VTIMEZONE
TZID:America/Los_Angeles
BEGIN:STANDARD
TZNAME:PST
DTSTART:20261101T020000
TZOFFSETFROM:-0700
TZOFFSETTO:-0800
RDATE:20271107T020000
END:STANDARD
BEGIN:DAYLIGHT
TZNAME:PDT
DTSTART:20260308T020000
TZOFFSETFROM:-0800
TZOFFSETTO:-0700
RDATE:20270314T020000
RDATE:20280312T020000
END:DAYLIGHT
END:VTIMEZONE
BEGIN:VEVENT
UID:da87d9ac-535d-4691-bb81-ff965a129f3e
DTSTAMP:20260421T101208Z
DESCRIPTION:For age 60+. Pick up packs of 5 frozen meals with fresh fruits 
 and milk at Vintage House on Mondays between 11 a.m. and noon. To enroll c
 ontact Council on Aging at 707-525-0143.
DTSTART;TZID=America/Los_Angeles:20270125T110000
DTEND;TZID=America/Los_Angeles:20270125T120000
LOCATION:264 First St. East\, Sonoma\, CA 95476 US
SUMMARY:Council on Aging 5 meal packs
END:VEVENT
END:VCALENDAR
