BEGIN:VCALENDAR
VERSION:2.0
PRODID:-//fishsonoma.org//NONSGML kigkonsult.se iCalcreator 2.30.10//
CALSCALE:GREGORIAN
METHOD:PUBLISH
UID:778b4bb3-09b9-4036-ba1f-c5d85bf45610
X-WR-CALDESC:Redwood Empire Food Bank distribution at Sonoma Creek Senior H
 ousing.
X-WR-RELCALID:94d270eb432c5aacdc8ea0984a008778
X-WR-TIMEZONE:America/Los_Angeles
BEGIN:VTIMEZONE
TZID:America/Los_Angeles
BEGIN:STANDARD
TZNAME:PST
DTSTART:20261101T020000
TZOFFSETFROM:-0700
TZOFFSETTO:-0800
RDATE:20271107T020000
END:STANDARD
BEGIN:DAYLIGHT
TZNAME:PDT
DTSTART:20260308T020000
TZOFFSETFROM:-0800
TZOFFSETTO:-0700
RDATE:20270314T020000
RDATE:20280312T020000
END:DAYLIGHT
END:VTIMEZONE
BEGIN:VEVENT
UID:54485e11-c13a-410e-be39-a75a7540b23f
DTSTAMP:20260421T121229Z
DESCRIPTION:Redwood Empire Food Bank distribution at Sonoma Creek Senior Ho
 using.
DTSTART;TZID=America/Los_Angeles:20270119T130000
DTEND;TZID=America/Los_Angeles:20270119T140000
LOCATION:809 Oregon St.\, Sonoma\, CA 95476 US
SUMMARY:REFB at Sonoma Creek Senior Housing
END:VEVENT
END:VCALENDAR
