BEGIN:VCALENDAR
VERSION:2.0
PRODID:-//fishsonoma.org//NONSGML kigkonsult.se iCalcreator 2.30.10//
CALSCALE:GREGORIAN
METHOD:PUBLISH
UID:99dbad4d-ebf1-4044-bb04-308f13500170
X-WR-CALDESC:Call 707-996-8422 between 9:30 - 11 a.m. for same day food pic
 k-up between 11:30 - 12:30 p.m. Come once a month.
X-WR-RELCALID:4da3c7deac70ebebf86de16722378994
X-WR-TIMEZONE:America/Los_Angeles
BEGIN:VTIMEZONE
TZID:America/Los_Angeles
BEGIN:STANDARD
TZNAME:PST
DTSTART:20261101T020000
TZOFFSETFROM:-0700
TZOFFSETTO:-0800
RDATE:20271107T020000
END:STANDARD
BEGIN:DAYLIGHT
TZNAME:PDT
DTSTART:20260308T020000
TZOFFSETFROM:-0800
TZOFFSETTO:-0700
RDATE:20270314T020000
RDATE:20280312T020000
END:DAYLIGHT
END:VTIMEZONE
BEGIN:VEVENT
UID:29a4f5d0-10df-4613-9aa3-9c9b6bdefd33
DTSTAMP:20260419T143735Z
DESCRIPTION:Call 707-996-8422 between 9:30 - 11 a.m. for same day food pick
 -up between 11:30 - 12:30 p.m. Come once a month.
DTSTART;TZID=America/Los_Angeles:20270115T113000
DTEND;TZID=America/Los_Angeles:20270115T123000
LOCATION:601 W. Agua Caliente Rd\, Sonoma\, CA 95476 US
SUMMARY:St. Leo's Food Pantry
END:VEVENT
END:VCALENDAR
