BEGIN:VCALENDAR
VERSION:2.0
PRODID:-//fishsonoma.org//NONSGML kigkonsult.se iCalcreator 2.30.10//
CALSCALE:GREGORIAN
METHOD:PUBLISH
UID:a96c774c-2d02-49cc-b1d6-1203b5a15adc
X-WR-CALDESC:Seventh Day Adventist Church food pantry. Call ahead at 707-99
 6-2008 for Thursday pickup\,
X-WR-RELCALID:793d560e227e5c9660c9eca58aa2b187
X-WR-TIMEZONE:America/Los_Angeles
BEGIN:VTIMEZONE
TZID:America/Los_Angeles
BEGIN:STANDARD
TZNAME:PST
DTSTART:20261101T020000
TZOFFSETFROM:-0700
TZOFFSETTO:-0800
RDATE:20271107T020000
END:STANDARD
BEGIN:DAYLIGHT
TZNAME:PDT
DTSTART:20260308T020000
TZOFFSETFROM:-0800
TZOFFSETTO:-0700
RDATE:20270314T020000
RDATE:20280312T020000
END:DAYLIGHT
END:VTIMEZONE
BEGIN:VEVENT
UID:1b148a09-a50d-487f-ba05-100ac6400fcc
DTSTAMP:20260421T083158Z
DESCRIPTION:Seventh Day Adventist Church food pantry. Call ahead at 707-996
 -2008 for Thursday pickup\,
DTSTART;TZID=America/Los_Angeles:20261231T120000
DTEND;TZID=America/Los_Angeles:20261231T130000
LOCATION:20575 Broadway\, Sonoma\, CA 95476 US
SUMMARY:SDA Food Pantry
END:VEVENT
END:VCALENDAR
