BEGIN:VCALENDAR
VERSION:2.0
PRODID:-//fishsonoma.org//NONSGML kigkonsult.se iCalcreator 2.30.10//
CALSCALE:GREGORIAN
METHOD:PUBLISH
UID:b41af239-a21f-4281-941b-1e8f27a2b140
X-WR-CALDESC:Redwood Empire Food Bank distribution at Alta Madrone apartmen
 ts (SAHA)
X-WR-RELCALID:91abcf0e65b547d940f44c2bcd282c32
X-WR-TIMEZONE:America/Los_Angeles
BEGIN:VTIMEZONE
TZID:America/Los_Angeles
BEGIN:STANDARD
TZNAME:PST
DTSTART:20261101T020000
TZOFFSETFROM:-0700
TZOFFSETTO:-0800
RDATE:20271107T020000
END:STANDARD
BEGIN:DAYLIGHT
TZNAME:PDT
DTSTART:20260308T020000
TZOFFSETFROM:-0800
TZOFFSETTO:-0700
RDATE:20270314T020000
RDATE:20280312T020000
END:DAYLIGHT
END:VTIMEZONE
BEGIN:VEVENT
UID:256718b7-86b2-43b3-9e70-5a68b7a96f0a
DTSTAMP:20260421T082751Z
DESCRIPTION:Redwood Empire Food Bank distribution at Alta Madrone apartment
 s (SAHA)
DTSTART;TZID=America/Los_Angeles:20261214T140000
DTEND;TZID=America/Los_Angeles:20261214T150000
LOCATION:1269 Broadway\, Sonoma\, CA 95476 US
SUMMARY:REFB at Alta Madrone
END:VEVENT
END:VCALENDAR
