BEGIN:VCALENDAR
VERSION:2.0
PRODID:-//fishsonoma.org//NONSGML kigkonsult.se iCalcreator 2.30.10//
CALSCALE:GREGORIAN
METHOD:PUBLISH
UID:7243a77c-8b98-4d7f-88e6-9e294293d9ca
X-WR-CALDESC:Free hot meals from Sonoma Family Meal. Pick-up at the Unity K
 itchen on Hwy 12 between 9 a.m. and 1 p.m. No pre-registration required.
X-WR-RELCALID:4cfc2e45b6d779839f7f8a06dc7b3bf4
X-WR-TIMEZONE:America/Los_Angeles
BEGIN:VTIMEZONE
TZID:America/Los_Angeles
BEGIN:STANDARD
TZNAME:PST
DTSTART:20261101T020000
TZOFFSETFROM:-0700
TZOFFSETTO:-0800
RDATE:20271107T020000
END:STANDARD
BEGIN:DAYLIGHT
TZNAME:PDT
DTSTART:20260308T020000
TZOFFSETFROM:-0800
TZOFFSETTO:-0700
RDATE:20270314T020000
RDATE:20280312T020000
END:DAYLIGHT
END:VTIMEZONE
BEGIN:VEVENT
UID:479c77e4-ff66-44cd-bf66-eefd03640b5c
DTSTAMP:20260421T082601Z
DESCRIPTION:Free hot meals from Sonoma Family Meal. Pick-up at the Unity Ki
 tchen on Hwy 12 between 9 a.m. and 1 p.m. No pre-registration required.
DTSTART;TZID=America/Los_Angeles:20261204T090000
DTEND;TZID=America/Los_Angeles:20261204T130000
LOCATION:17400 Sonoma Highway\, Sonoma\, AL 95476 US
SUMMARY:Unity Kitchen Meals for Pick Up
END:VEVENT
END:VCALENDAR
