BEGIN:VCALENDAR
VERSION:2.0
PRODID:-//fishsonoma.org//NONSGML kigkonsult.se iCalcreator 2.30.10//
CALSCALE:GREGORIAN
METHOD:PUBLISH
UID:d0a64d02-09b0-4f31-8265-082fd991cf34
X-WR-CALDESC:Council on Aging provides 'Community Table' lunch and conversa
 tion for age 60+. Please see link for menus and details on how to register
 .
X-WR-RELCALID:e6b81f285e459d4f5c286ee9d0a4379b
X-WR-TIMEZONE:America/Los_Angeles
BEGIN:VTIMEZONE
TZID:America/Los_Angeles
BEGIN:STANDARD
TZNAME:PST
DTSTART:20241103T020000
TZOFFSETFROM:-0700
TZOFFSETTO:-0800
RDATE:20251102T020000
RDATE:20261101T020000
END:STANDARD
BEGIN:DAYLIGHT
TZNAME:PDT
DTSTART:20250309T020000
TZOFFSETFROM:-0800
TZOFFSETTO:-0700
RDATE:20260308T020000
RDATE:20270314T020000
END:DAYLIGHT
END:VTIMEZONE
BEGIN:VEVENT
UID:f5d228d4-b9e4-4000-b78b-f8e9fd1af89e
DTSTAMP:20260421T121323Z
DESCRIPTION:Council on Aging provides 'Community Table' lunch and conversat
 ion for age 60+. Please see link for menus and details on how to register.
DTSTART;TZID=America/Los_Angeles:20250930T120000
DTEND;TZID=America/Los_Angeles:20250930T130000
LOCATION:18800 Beatrice Dr.\, Sonoma\, CA 95476 US
SUMMARY:Community Lunch at Oakridge
END:VEVENT
END:VCALENDAR
