BEGIN:VCALENDAR
VERSION:2.0
PRODID:-//fishsonoma.org//NONSGML kigkonsult.se iCalcreator 2.30.10//
CALSCALE:GREGORIAN
METHOD:PUBLISH
UID:725c042b-7ad5-41ff-9cdc-a824f0e32a96
X-WR-CALDESC:For age 60+. Pick up packs of 5 frozen meals with fresh fruits
  and milk at Vintage House on Mondays between 11 a.m. and noon. To enroll 
 contact Council on Aging at 707-525-0143.
X-WR-RELCALID:2fe1ca5220533b3372c39771c89fd500
X-WR-TIMEZONE:America/Los_Angeles
BEGIN:VTIMEZONE
TZID:America/Los_Angeles
BEGIN:STANDARD
TZNAME:PST
DTSTART:20241103T020000
TZOFFSETFROM:-0700
TZOFFSETTO:-0800
RDATE:20251102T020000
RDATE:20261101T020000
END:STANDARD
BEGIN:DAYLIGHT
TZNAME:PDT
DTSTART:20250309T020000
TZOFFSETFROM:-0800
TZOFFSETTO:-0700
RDATE:20260308T020000
RDATE:20270314T020000
END:DAYLIGHT
END:VTIMEZONE
BEGIN:VEVENT
UID:8d5476b1-ed8e-419c-8f1e-ad672fce0d9d
DTSTAMP:20260421T083431Z
DESCRIPTION:For age 60+. Pick up packs of 5 frozen meals with fresh fruits 
 and milk at Vintage House on Mondays between 11 a.m. and noon. To enroll c
 ontact Council on Aging at 707-525-0143.
DTSTART;TZID=America/Los_Angeles:20250929T110000
DTEND;TZID=America/Los_Angeles:20250929T120000
LOCATION:264 First St. East\, Sonoma\, CA 95476 US
SUMMARY:Council on Aging 5 meal packs
END:VEVENT
END:VCALENDAR
