BEGIN:VCALENDAR
VERSION:2.0
PRODID:-//fishsonoma.org//NONSGML kigkonsult.se iCalcreator 2.30.10//
CALSCALE:GREGORIAN
METHOD:PUBLISH
UID:ffff13fd-a9a1-4a0e-8200-27567fa7d459
X-WR-CALDESC:3 days of groceries available weekdays from 1 p.m. - 2:30 p.m.
   Arrive in person (no need to call ahead).
X-WR-RELCALID:c08fdf7d5310e0f346efc281beac13af
X-WR-TIMEZONE:America/Los_Angeles
BEGIN:VTIMEZONE
TZID:America/Los_Angeles
BEGIN:STANDARD
TZNAME:PST
DTSTART:20241103T020000
TZOFFSETFROM:-0700
TZOFFSETTO:-0800
RDATE:20251102T020000
RDATE:20261101T020000
END:STANDARD
BEGIN:DAYLIGHT
TZNAME:PDT
DTSTART:20250309T020000
TZOFFSETFROM:-0800
TZOFFSETTO:-0700
RDATE:20260308T020000
RDATE:20270314T020000
END:DAYLIGHT
END:VTIMEZONE
BEGIN:VEVENT
UID:8d01eef3-3ec9-4c71-a8d2-95ff7519c84c
DTSTAMP:20260421T083639Z
DESCRIPTION:3 days of groceries available weekdays from 1 p.m. - 2:30 p.m. 
  Arrive in person (no need to call ahead).
DTSTART;TZID=America/Los_Angeles:20250924T130000
DTEND;TZID=America/Los_Angeles:20250924T143000
LOCATION:469 3rd St West\, Sonoma\, CA 95476 US
SUMMARY:St Francis Food Pantry
END:VEVENT
END:VCALENDAR
