BEGIN:VCALENDAR
VERSION:2.0
PRODID:-//fishsonoma.org//NONSGML kigkonsult.se iCalcreator 2.30.10//
CALSCALE:GREGORIAN
METHOD:PUBLISH
UID:43508ef6-e5b5-4fcc-9d76-a190d182a845
X-WR-CALDESC:Free hot meals. Pick-up at the Unity Kitchen on Hwy 12 between
  9 a.m. and 1 p.m. No pre-registration required.
X-WR-RELCALID:7481d0314d13710b7c66a8ee5ddc3eea
X-WR-TIMEZONE:America/Los_Angeles
BEGIN:VTIMEZONE
TZID:America/Los_Angeles
BEGIN:STANDARD
TZNAME:PST
DTSTART:20241103T020000
TZOFFSETFROM:-0700
TZOFFSETTO:-0800
RDATE:20251102T020000
RDATE:20261101T020000
END:STANDARD
BEGIN:DAYLIGHT
TZNAME:PDT
DTSTART:20250309T020000
TZOFFSETFROM:-0800
TZOFFSETTO:-0700
RDATE:20260308T020000
RDATE:20270314T020000
END:DAYLIGHT
END:VTIMEZONE
BEGIN:VEVENT
UID:002f1bae-7d7c-43f6-9231-d9e6147dd47b
DTSTAMP:20260421T091353Z
DESCRIPTION:Free hot meals. Pick-up at the Unity Kitchen on Hwy 12 between 
 9 a.m. and 1 p.m. No pre-registration required.
DTSTART;TZID=America/Los_Angeles:20250917T090000
DTEND;TZID=America/Los_Angeles:20250917T130000
LOCATION:17400 Sonoma Highway\, Sonoma\, CA 95476 US
SUMMARY:SOS Meals for Pick Up
END:VEVENT
END:VCALENDAR
