BEGIN:VCALENDAR
VERSION:2.0
PRODID:-//fishsonoma.org//NONSGML kigkonsult.se iCalcreator 2.30.10//
CALSCALE:GREGORIAN
METHOD:PUBLISH
UID:4d80dcd1-9cad-4c86-bff6-8c46676e7c80
X-WR-CALDESC:Free hot meals. Pick-up at the Unity Kitchen on Hwy 12 between
  9 a.m. and 1 p.m. No pre-registration required.
X-WR-RELCALID:a3e0d3fce7cd91e84bfc1a44a63da8bd
X-WR-TIMEZONE:America/Los_Angeles
BEGIN:VTIMEZONE
TZID:America/Los_Angeles
BEGIN:STANDARD
TZNAME:PST
DTSTART:20241103T020000
TZOFFSETFROM:-0700
TZOFFSETTO:-0800
RDATE:20251102T020000
RDATE:20261101T020000
END:STANDARD
BEGIN:DAYLIGHT
TZNAME:PDT
DTSTART:20250309T020000
TZOFFSETFROM:-0800
TZOFFSETTO:-0700
RDATE:20260308T020000
RDATE:20270314T020000
END:DAYLIGHT
END:VTIMEZONE
BEGIN:VEVENT
UID:78b84311-b91e-4cd6-892e-2c2ac53ed6cd
DTSTAMP:20260419T132721Z
DESCRIPTION:Free hot meals. Pick-up at the Unity Kitchen on Hwy 12 between 
 9 a.m. and 1 p.m. No pre-registration required.
DTSTART;TZID=America/Los_Angeles:20250912T090000
DTEND;TZID=America/Los_Angeles:20250912T130000
LOCATION:17400 Sonoma Highway\, Sonoma\, CA 95476 US
SUMMARY:SOS Meals for Pick Up
END:VEVENT
END:VCALENDAR
