BEGIN:VCALENDAR
VERSION:2.0
PRODID:-//fishsonoma.org//NONSGML kigkonsult.se iCalcreator 2.30.10//
CALSCALE:GREGORIAN
METHOD:PUBLISH
UID:93df9fbe-0f24-4f67-b821-2dcfda44ce6f
X-WR-CALDESC:Free hot meals. Pick-up at the Unity Kitchen on Hwy 12 between
  9 a.m. and 1 p.m. No pre-registration required.
X-WR-RELCALID:3c867d9f17db87b025d8cab37d4a10d6
X-WR-TIMEZONE:America/Los_Angeles
BEGIN:VTIMEZONE
TZID:America/Los_Angeles
BEGIN:STANDARD
TZNAME:PST
DTSTART:20241103T020000
TZOFFSETFROM:-0700
TZOFFSETTO:-0800
RDATE:20251102T020000
RDATE:20261101T020000
END:STANDARD
BEGIN:DAYLIGHT
TZNAME:PDT
DTSTART:20250309T020000
TZOFFSETFROM:-0800
TZOFFSETTO:-0700
RDATE:20260308T020000
END:DAYLIGHT
END:VTIMEZONE
BEGIN:VEVENT
UID:20cc215a-c86c-487a-8b50-d54ffe60e976
DTSTAMP:20260421T082909Z
DESCRIPTION:Free hot meals. Pick-up at the Unity Kitchen on Hwy 12 between 
 9 a.m. and 1 p.m. No pre-registration required.
DTSTART;TZID=America/Los_Angeles:20250904T090000
DTEND;TZID=America/Los_Angeles:20250904T130000
LOCATION:17400 Sonoma Highway\, Sonoma\, CA 95476 US
SUMMARY:SOS Meals for Pick Up
END:VEVENT
END:VCALENDAR
