BEGIN:VCALENDAR
VERSION:2.0
PRODID:-//fishsonoma.org//NONSGML kigkonsult.se iCalcreator 2.30.10//
CALSCALE:GREGORIAN
METHOD:PUBLISH
UID:46e5f71c-0bd7-4d8d-88a6-b446cc27aa03
X-WR-CALDESC:Redwood Empire Food Bank Distribution
X-WR-RELCALID:f261157b78b486d735e977bcf3ea0597
X-WR-TIMEZONE:America/Los_Angeles
BEGIN:VTIMEZONE
TZID:America/Los_Angeles
BEGIN:STANDARD
TZNAME:PST
DTSTART:20241103T020000
TZOFFSETFROM:-0700
TZOFFSETTO:-0800
RDATE:20251102T020000
RDATE:20261101T020000
END:STANDARD
BEGIN:DAYLIGHT
TZNAME:PDT
DTSTART:20250309T020000
TZOFFSETFROM:-0800
TZOFFSETTO:-0700
RDATE:20260308T020000
END:DAYLIGHT
END:VTIMEZONE
BEGIN:VEVENT
UID:a9d7ea80-43bd-4805-ac1f-4af9405841bc
DTSTAMP:20260421T083454Z
DESCRIPTION:Redwood Empire Food Bank Distribution
DTSTART;TZID=America/Los_Angeles:20250902T133000
DTEND;TZID=America/Los_Angeles:20250902T143000
LOCATION:191 W. Verano Ave.\, Sonoma\, CA 95476 US
SUMMARY:REFB at FAHA Manor Apartments
END:VEVENT
END:VCALENDAR
