BEGIN:VCALENDAR
VERSION:2.0
PRODID:-//fishsonoma.org//NONSGML kigkonsult.se iCalcreator 2.30.10//
CALSCALE:GREGORIAN
METHOD:PUBLISH
UID:262bc539-f3f8-4de4-ba59-5e04790d9ff7
X-WR-CALDESC:Free hot meals. Pick-up at the Unity Kitchen on Hwy 12 between
  9 a.m. and 1 p.m. No pre-registration required.
X-WR-RELCALID:10e7f6726887bdf21f76b42f705f6d73
X-WR-TIMEZONE:America/Los_Angeles
BEGIN:VTIMEZONE
TZID:America/Los_Angeles
BEGIN:STANDARD
TZNAME:PST
DTSTART:20241103T020000
TZOFFSETFROM:-0700
TZOFFSETTO:-0800
RDATE:20251102T020000
RDATE:20261101T020000
END:STANDARD
BEGIN:DAYLIGHT
TZNAME:PDT
DTSTART:20250309T020000
TZOFFSETFROM:-0800
TZOFFSETTO:-0700
RDATE:20260308T020000
END:DAYLIGHT
END:VTIMEZONE
BEGIN:VEVENT
UID:a573ca64-e06e-4c0c-b510-5a3f80627faf
DTSTAMP:20260419T132714Z
DESCRIPTION:Free hot meals. Pick-up at the Unity Kitchen on Hwy 12 between 
 9 a.m. and 1 p.m. No pre-registration required.
DTSTART;TZID=America/Los_Angeles:20250901T090000
DTEND;TZID=America/Los_Angeles:20250901T130000
LOCATION:17400 Sonoma Highway\, Sonoma\, CA 95476 US
SUMMARY:SOS Meals for Pick Up
END:VEVENT
END:VCALENDAR
