BEGIN:VCALENDAR
VERSION:2.0
PRODID:-//fishsonoma.org//NONSGML kigkonsult.se iCalcreator 2.30.10//
CALSCALE:GREGORIAN
METHOD:PUBLISH
UID:d80350bc-86f8-47f7-bf69-9127186de2e9
X-WR-CALDESC:3 days of groceries available weekdays from 1 p.m. - 2:30 p.m.
   Arrive in person (no need to call ahead).
X-WR-RELCALID:8af3394c45773cc21816917553550f7d
X-WR-TIMEZONE:America/Los_Angeles
BEGIN:VTIMEZONE
TZID:America/Los_Angeles
BEGIN:STANDARD
TZNAME:PST
DTSTART:20241103T020000
TZOFFSETFROM:-0700
TZOFFSETTO:-0800
RDATE:20251102T020000
END:STANDARD
BEGIN:DAYLIGHT
TZNAME:PDT
DTSTART:20240310T020000
TZOFFSETFROM:-0800
TZOFFSETTO:-0700
RDATE:20250309T020000
RDATE:20260308T020000
END:DAYLIGHT
END:VTIMEZONE
BEGIN:VEVENT
UID:dca43930-3d8f-4d52-93a2-fdc67bd0f1b5
DTSTAMP:20260419T174846Z
DESCRIPTION:3 days of groceries available weekdays from 1 p.m. - 2:30 p.m. 
  Arrive in person (no need to call ahead).
DTSTART;TZID=America/Los_Angeles:20241227T130000
DTEND;TZID=America/Los_Angeles:20241227T143000
LOCATION:469 3rd St West\, Sonoma\, CA 95476 US
SUMMARY:St Francis Food Pantry
END:VEVENT
END:VCALENDAR
