BEGIN:VCALENDAR
VERSION:2.0
PRODID:-//fishsonoma.org//NONSGML kigkonsult.se iCalcreator 2.30.10//
CALSCALE:GREGORIAN
METHOD:PUBLISH
UID:fcf482a2-0fbe-49fe-b449-3a5e5ef4ec3e
X-WR-CALDESC:Redwood Empire Food Bank distribution at Craig Ave. Baptist Ch
 urch.
X-WR-RELCALID:6a08c0aacf82e418f90ee5a85a827d39
X-WR-TIMEZONE:America/Los_Angeles
BEGIN:VTIMEZONE
TZID:America/Los_Angeles
BEGIN:STANDARD
TZNAME:PST
DTSTART:20241103T020000
TZOFFSETFROM:-0700
TZOFFSETTO:-0800
RDATE:20251102T020000
END:STANDARD
BEGIN:DAYLIGHT
TZNAME:PDT
DTSTART:20240310T020000
TZOFFSETFROM:-0800
TZOFFSETTO:-0700
RDATE:20250309T020000
RDATE:20260308T020000
END:DAYLIGHT
END:VTIMEZONE
BEGIN:VEVENT
UID:62c5a7d7-a850-47ed-9fbc-e7326f4bd2d7
DTSTAMP:20260425T125322Z
DESCRIPTION:Redwood Empire Food Bank distribution at Craig Ave. Baptist Chu
 rch.
DTSTART;TZID=America/Los_Angeles:20241227T083000
DTEND;TZID=America/Los_Angeles:20241227T093000
LOCATION:18621 Railroad Ave\, Sonoma\, CA 95476 US
SUMMARY:REFB at Craig Ave
END:VEVENT
END:VCALENDAR
