BEGIN:VCALENDAR
VERSION:2.0
PRODID:-//fishsonoma.org//NONSGML kigkonsult.se iCalcreator 2.30.10//
CALSCALE:GREGORIAN
METHOD:PUBLISH
UID:673ff7e8-5e2a-41e7-9112-057395084d90
X-WR-CALDESC:Redwood Empire Food Bank distribution at Craig Ave. Baptist Ch
 urch.
X-WR-RELCALID:bd97455256e7eb5668fa0e9b9d1aa5ad
X-WR-TIMEZONE:America/Los_Angeles
BEGIN:VTIMEZONE
TZID:America/Los_Angeles
BEGIN:STANDARD
TZNAME:PST
DTSTART:20241103T020000
TZOFFSETFROM:-0700
TZOFFSETTO:-0800
RDATE:20251102T020000
END:STANDARD
BEGIN:DAYLIGHT
TZNAME:PDT
DTSTART:20240310T020000
TZOFFSETFROM:-0800
TZOFFSETTO:-0700
RDATE:20250309T020000
RDATE:20260308T020000
END:DAYLIGHT
END:VTIMEZONE
BEGIN:VEVENT
UID:73b0eeb8-b5ad-4a80-9580-0e7aa88818c6
DTSTAMP:20260421T100323Z
DESCRIPTION:Redwood Empire Food Bank distribution at Craig Ave. Baptist Chu
 rch.
DTSTART;TZID=America/Los_Angeles:20241213T083000
DTEND;TZID=America/Los_Angeles:20241213T093000
LOCATION:18621 Railroad Ave\, Sonoma\, CA 95476 US
SUMMARY:REFB at Craig Ave
END:VEVENT
END:VCALENDAR
