BEGIN:VCALENDAR
VERSION:2.0
PRODID:-//fishsonoma.org//NONSGML kigkonsult.se iCalcreator 2.30.10//
CALSCALE:GREGORIAN
METHOD:PUBLISH
UID:6faa94ce-2121-42bb-afa3-5a89e0a8c630
X-WR-CALDESC:Redwood Empire Food Bank distribution at Sonoma Valley Communi
 ty Health Center
X-WR-RELCALID:122226979f0d2c833296c71ce584831a
X-WR-TIMEZONE:America/Los_Angeles
BEGIN:VTIMEZONE
TZID:America/Los_Angeles
BEGIN:STANDARD
TZNAME:PST
DTSTART:20231105T020000
TZOFFSETFROM:-0700
TZOFFSETTO:-0800
RDATE:20241103T020000
RDATE:20251102T020000
END:STANDARD
BEGIN:DAYLIGHT
TZNAME:PDT
DTSTART:20240310T020000
TZOFFSETFROM:-0800
TZOFFSETTO:-0700
RDATE:20250309T020000
RDATE:20260308T020000
END:DAYLIGHT
END:VTIMEZONE
BEGIN:VEVENT
UID:cfc967b5-b4bc-4737-8b17-f317100100fa
DTSTAMP:20260421T102817Z
DESCRIPTION:Redwood Empire Food Bank distribution at Sonoma Valley Communit
 y Health Center
DTSTART;TZID=America/Los_Angeles:20241101T083000
DTEND;TZID=America/Los_Angeles:20241101T093000
LOCATION:19270 Sonoma Highway\, Sonoma\, CA 95476 US
SUMMARY:REFB at Health Center
END:VEVENT
END:VCALENDAR
