BEGIN:VCALENDAR
VERSION:2.0
PRODID:-//fishsonoma.org//NONSGML kigkonsult.se iCalcreator 2.30.10//
CALSCALE:GREGORIAN
METHOD:PUBLISH
UID:d9c38923-f112-4f0a-9734-58068fffd91a
X-WR-CALDESC:Redwood Empire Food Bank distribution at St. Patrick's Church 
 in Kenwood.
X-WR-RELCALID:ebdb1174dd5991af46350eb2ee5d4227
X-WR-TIMEZONE:America/Los_Angeles
BEGIN:VTIMEZONE
TZID:America/Los_Angeles
BEGIN:STANDARD
TZNAME:PST
DTSTART:20231105T020000
TZOFFSETFROM:-0700
TZOFFSETTO:-0800
RDATE:20241103T020000
RDATE:20251102T020000
END:STANDARD
BEGIN:DAYLIGHT
TZNAME:PDT
DTSTART:20240310T020000
TZOFFSETFROM:-0800
TZOFFSETTO:-0700
RDATE:20250309T020000
END:DAYLIGHT
END:VTIMEZONE
BEGIN:VEVENT
UID:0d76dd7a-3d7f-4012-9a0e-fe272139fedc
DTSTAMP:20260424T094825Z
DESCRIPTION:Redwood Empire Food Bank distribution at St. Patrick's Church i
 n Kenwood.
DTSTART;TZID=America/Los_Angeles:20240708T170000
DTEND;TZID=America/Los_Angeles:20240708T180000
LOCATION:9000 Sonoma Highway\, Kenwood\, CA 95452 US
SUMMARY:REFB in Kenwood
END:VEVENT
END:VCALENDAR
