BEGIN:VCALENDAR
VERSION:2.0
PRODID:-//fishsonoma.org//NONSGML kigkonsult.se iCalcreator 2.30.10//
CALSCALE:GREGORIAN
METHOD:PUBLISH
UID:e83ba01e-014e-4183-aedf-422b1e3e76a4
X-WR-CALDESC:Redwood Empire Food Bank distribution at Jack London Village.
X-WR-RELCALID:0ba2926b743f7f94a8a3874d1885b638
X-WR-TIMEZONE:America/Los_Angeles
BEGIN:VTIMEZONE
TZID:America/Los_Angeles
BEGIN:STANDARD
TZNAME:PST
DTSTART:20231105T020000
TZOFFSETFROM:-0700
TZOFFSETTO:-0800
RDATE:20241103T020000
RDATE:20251102T020000
END:STANDARD
BEGIN:DAYLIGHT
TZNAME:PDT
DTSTART:20240310T020000
TZOFFSETFROM:-0800
TZOFFSETTO:-0700
RDATE:20250309T020000
END:DAYLIGHT
END:VTIMEZONE
BEGIN:VEVENT
UID:c8e4267d-a06d-46b1-b37f-d33a8d13658c
DTSTAMP:20260424T104535Z
DESCRIPTION:Redwood Empire Food Bank distribution at Jack London Village.
DTSTART;TZID=America/Los_Angeles:20240705T093000
DTEND;TZID=America/Los_Angeles:20240705T103000
LOCATION:14301 Arnold Dr.\, Glen Ellen\, CA 95442 US
SUMMARY:REFB in Glen Ellen
END:VEVENT
END:VCALENDAR
