BEGIN:VCALENDAR
VERSION:2.0
PRODID:-//fishsonoma.org//NONSGML kigkonsult.se iCalcreator 2.30.10//
CALSCALE:GREGORIAN
METHOD:PUBLISH
UID:a8fcb4c3-54a9-4c51-b5a8-07ec19c29bda
X-WR-CALDESC:Seventh Day Adventist Church food pantry. Call ahead at 707-99
 6-2008 for Thursday pickup\,
X-WR-RELCALID:cb212c3adc129680d422bb439a6c5194
X-WR-TIMEZONE:America/Los_Angeles
BEGIN:VTIMEZONE
TZID:America/Los_Angeles
BEGIN:STANDARD
TZNAME:PST
DTSTART:20231105T020000
TZOFFSETFROM:-0700
TZOFFSETTO:-0800
RDATE:20241103T020000
RDATE:20251102T020000
END:STANDARD
BEGIN:DAYLIGHT
TZNAME:PDT
DTSTART:20240310T020000
TZOFFSETFROM:-0800
TZOFFSETTO:-0700
RDATE:20250309T020000
END:DAYLIGHT
END:VTIMEZONE
BEGIN:VEVENT
UID:5b61af6a-c077-4328-9787-b578878db802
DTSTAMP:20260422T064005Z
DESCRIPTION:Seventh Day Adventist Church food pantry. Call ahead at 707-996
 -2008 for Thursday pickup\,
DTSTART;TZID=America/Los_Angeles:20240704T120000
DTEND;TZID=America/Los_Angeles:20240704T130000
LOCATION:20575 Broadway\, Sonoma\, CA 95476 US
SUMMARY:SDA Food Pantry
END:VEVENT
END:VCALENDAR
