BEGIN:VCALENDAR
VERSION:2.0
PRODID:-//fishsonoma.org//NONSGML kigkonsult.se iCalcreator 2.30.10//
CALSCALE:GREGORIAN
METHOD:PUBLISH
UID:80cccd74-b81f-4ea1-8d73-da8ec47a1c30
X-WR-CALDESC:Council on Aging provides 'Community Table' lunch and conversa
 tion for age 60+. Please see link for menus and details on how to register
 .
X-WR-RELCALID:e2c087ae841fa55b07218980bffce4ef
X-WR-TIMEZONE:America/Los_Angeles
BEGIN:VTIMEZONE
TZID:America/Los_Angeles
BEGIN:STANDARD
TZNAME:PST
DTSTART:20231105T020000
TZOFFSETFROM:-0700
TZOFFSETTO:-0800
RDATE:20241103T020000
END:STANDARD
BEGIN:DAYLIGHT
TZNAME:PDT
DTSTART:20240310T020000
TZOFFSETFROM:-0800
TZOFFSETTO:-0700
RDATE:20250309T020000
END:DAYLIGHT
END:VTIMEZONE
BEGIN:VEVENT
UID:f94767f2-c032-4a3e-b98b-4a9c1e9c5f68
DTSTAMP:20260419T195600Z
DESCRIPTION:Council on Aging provides 'Community Table' lunch and conversat
 ion for age 60+. Please see link for menus and details on how to register.
DTSTART;TZID=America/Los_Angeles:20240430T120000
DTEND;TZID=America/Los_Angeles:20240430T130000
LOCATION:18800 Beatrice Dr.\, Sonoma\, CA 95476 US
SUMMARY:Community Lunch at Oakridge
END:VEVENT
END:VCALENDAR
