BEGIN:VCALENDAR
VERSION:2.0
PRODID:-//fishsonoma.org//NONSGML kigkonsult.se iCalcreator 2.30.10//
CALSCALE:GREGORIAN
METHOD:PUBLISH
UID:c78c5c2d-c41c-49ac-8cfd-a36517449186
X-WR-CALDESC:3 days of groceries available weekdays from 1 p.m. - 2:30 p.m.
   Arrive in person (no need to call ahead).
X-WR-RELCALID:4719e24d3ae91e6efe255ba69177be86
X-WR-TIMEZONE:America/Los_Angeles
BEGIN:VTIMEZONE
TZID:America/Los_Angeles
BEGIN:STANDARD
TZNAME:PST
DTSTART:20231105T020000
TZOFFSETFROM:-0700
TZOFFSETTO:-0800
RDATE:20241103T020000
END:STANDARD
BEGIN:DAYLIGHT
TZNAME:PDT
DTSTART:20240310T020000
TZOFFSETFROM:-0800
TZOFFSETTO:-0700
RDATE:20250309T020000
END:DAYLIGHT
END:VTIMEZONE
BEGIN:VEVENT
UID:c8fbed76-ba94-4ec1-92dc-0dc399dc7b2a
DTSTAMP:20260422T111104Z
DESCRIPTION:3 days of groceries available weekdays from 1 p.m. - 2:30 p.m. 
  Arrive in person (no need to call ahead).
DTSTART;TZID=America/Los_Angeles:20240403T130000
DTEND;TZID=America/Los_Angeles:20240403T143000
LOCATION:469 3rd St West\, Sonoma\, CA 95476 US
SUMMARY:St Francis Food Pantry
END:VEVENT
END:VCALENDAR
