BEGIN:VCALENDAR
VERSION:2.0
PRODID:-//fishsonoma.org//NONSGML kigkonsult.se iCalcreator 2.30.10//
CALSCALE:GREGORIAN
METHOD:PUBLISH
UID:941ba86b-18d7-4984-aff8-6ed02c7b4d7d
X-WR-CALDESC:Redwood Empire Food Bank distribution
X-WR-RELCALID:da613194157fca5068ae3f4fcaf01cd8
X-WR-TIMEZONE:America/Los_Angeles
BEGIN:VTIMEZONE
TZID:America/Los_Angeles
BEGIN:STANDARD
TZNAME:PST
DTSTART:20231105T020000
TZOFFSETFROM:-0700
TZOFFSETTO:-0800
RDATE:20241103T020000
END:STANDARD
BEGIN:DAYLIGHT
TZNAME:PDT
DTSTART:20230312T020000
TZOFFSETFROM:-0800
TZOFFSETTO:-0700
RDATE:20240310T020000
RDATE:20250309T020000
END:DAYLIGHT
END:VTIMEZONE
BEGIN:VEVENT
UID:5dbad752-8af8-47d3-9546-01ab42318ceb
DTSTAMP:20260425T201502Z
DESCRIPTION:Redwood Empire Food Bank distribution
DTSTART;TZID=America/Los_Angeles:20240305T133000
DTEND;TZID=America/Los_Angeles:20240305T143000
LOCATION:1400 Watmaugh Rd\, Sonoma\, CA 95476 US
SUMMARY:REFB at 7 Flags Mobile Park
END:VEVENT
END:VCALENDAR
