BEGIN:VCALENDAR
VERSION:2.0
PRODID:-//fishsonoma.org//NONSGML kigkonsult.se iCalcreator 2.30.10//
CALSCALE:GREGORIAN
METHOD:PUBLISH
UID:50e6bf52-523b-4b4f-a95f-f62a03f54052
X-WR-CALDESC:Free hot meals to everyone\, for pick-up at the Unity Kitchen 
 on Hwy 12. No pre-registration required.
X-WR-RELCALID:ce402748ca8ef58cde3413657134cb8c
X-WR-TIMEZONE:America/Los_Angeles
BEGIN:VTIMEZONE
TZID:America/Los_Angeles
BEGIN:STANDARD
TZNAME:PST
DTSTART:20231105T020000
TZOFFSETFROM:-0700
TZOFFSETTO:-0800
RDATE:20241103T020000
END:STANDARD
BEGIN:DAYLIGHT
TZNAME:PDT
DTSTART:20230312T020000
TZOFFSETFROM:-0800
TZOFFSETTO:-0700
RDATE:20240310T020000
RDATE:20250309T020000
END:DAYLIGHT
END:VTIMEZONE
BEGIN:VEVENT
UID:00548af0-5502-4896-b684-c13390fc6aea
DTSTAMP:20260423T124451Z
DESCRIPTION:Free hot meals to everyone\, for pick-up at the Unity Kitchen o
 n Hwy 12. No pre-registration required.
DTSTART;TZID=America/Los_Angeles:20240228T090000
DTEND;TZID=America/Los_Angeles:20240228T130000
LOCATION:17400 Sonoma Highway\, Sonoma\, CA 95476 US
SUMMARY:SOS Meals for Pick Up
END:VEVENT
END:VCALENDAR
