BEGIN:VCALENDAR
VERSION:2.0
PRODID:-//fishsonoma.org//NONSGML kigkonsult.se iCalcreator 2.30.10//
CALSCALE:GREGORIAN
METHOD:PUBLISH
UID:21e8606e-4311-448a-832c-99f4797cbd80
X-WR-CALDESC:The Food Pantry is open at 1:30 p.m. to pick up nutritious gro
 ceries. We include enough for 3-5 days of meals for you and your family. F
 ood is available to anyone who calls in that day before noon at 707-996-01
 11.
X-WR-RELCALID:741025ea910798e65a086caca0d2f67f
X-WR-TIMEZONE:America/Los_Angeles
BEGIN:VTIMEZONE
TZID:America/Los_Angeles
BEGIN:STANDARD
TZNAME:PST
DTSTART:20231105T020000
TZOFFSETFROM:-0700
TZOFFSETTO:-0800
RDATE:20241103T020000
END:STANDARD
BEGIN:DAYLIGHT
TZNAME:PDT
DTSTART:20230312T020000
TZOFFSETFROM:-0800
TZOFFSETTO:-0700
RDATE:20240310T020000
RDATE:20250309T020000
END:DAYLIGHT
END:VTIMEZONE
BEGIN:VEVENT
UID:b584eab1-1d0d-4ce7-a47e-4220c170a1cc
DTSTAMP:20260419T211121Z
DESCRIPTION:The Food Pantry is open at 1:30 p.m. to pick up nutritious groc
 eries. We include enough for 3-5 days of meals for you and your family. Fo
 od is available to anyone who calls in that day before noon at 707-996-011
 1.
DTSTART;TZID=America/Los_Angeles:20240219T133000
DTEND;TZID=America/Los_Angeles:20240219T143000
LOCATION:18330 Highway 12\, Sonoma\, CA 95476 US
SUMMARY:Food Pantry at FISH
END:VEVENT
END:VCALENDAR
