BEGIN:VCALENDAR
VERSION:2.0
PRODID:-//fishsonoma.org//NONSGML kigkonsult.se iCalcreator 2.30.10//
CALSCALE:GREGORIAN
METHOD:PUBLISH
UID:95145fa8-d48b-43d3-abd0-d68a4f99effd
X-WR-CALDESC:3 days of groceries available weekdays from 1 p.m. - 2:30 p.m.
   Arrive in person (no need to call ahead).
X-WR-RELCALID:935ad0180bdb9929bac3a5bb0b4cd7b9
X-WR-TIMEZONE:America/Los_Angeles
BEGIN:VTIMEZONE
TZID:America/Los_Angeles
BEGIN:STANDARD
TZNAME:PST
DTSTART:20231105T020000
TZOFFSETFROM:-0700
TZOFFSETTO:-0800
RDATE:20241103T020000
END:STANDARD
BEGIN:DAYLIGHT
TZNAME:PDT
DTSTART:20230312T020000
TZOFFSETFROM:-0800
TZOFFSETTO:-0700
RDATE:20240310T020000
RDATE:20250309T020000
END:DAYLIGHT
END:VTIMEZONE
BEGIN:VEVENT
UID:e61198de-6c0c-4ce1-9db7-45e29b6a0f7e
DTSTAMP:20260421T083326Z
DESCRIPTION:3 days of groceries available weekdays from 1 p.m. - 2:30 p.m. 
  Arrive in person (no need to call ahead).
DTSTART;TZID=America/Los_Angeles:20240219T130000
DTEND;TZID=America/Los_Angeles:20240219T143000
LOCATION:469 3rd St West\, Sonoma\, CA 95476 US
SUMMARY:St Francis Food Pantry
END:VEVENT
END:VCALENDAR
