BEGIN:VCALENDAR
VERSION:2.0
PRODID:-//fishsonoma.org//NONSGML kigkonsult.se iCalcreator 2.30.10//
CALSCALE:GREGORIAN
METHOD:PUBLISH
UID:84c3d3d7-7626-4b60-a09a-f47e0beb7039
X-WR-CALDESC:Free hot meals to everyone\, for pick-up at the Unity Kitchen 
 on Hwy 12. No pre-registration required.
X-WR-RELCALID:78b7b07ce40f0883e6420abff77e1f7b
X-WR-TIMEZONE:America/Los_Angeles
BEGIN:VTIMEZONE
TZID:America/Los_Angeles
BEGIN:STANDARD
TZNAME:PST
DTSTART:20231105T020000
TZOFFSETFROM:-0700
TZOFFSETTO:-0800
RDATE:20241103T020000
END:STANDARD
BEGIN:DAYLIGHT
TZNAME:PDT
DTSTART:20230312T020000
TZOFFSETFROM:-0800
TZOFFSETTO:-0700
RDATE:20240310T020000
RDATE:20250309T020000
END:DAYLIGHT
END:VTIMEZONE
BEGIN:VEVENT
UID:a705bf34-ffbb-4784-a87e-4ae84508e095
DTSTAMP:20260419T133032Z
DESCRIPTION:Free hot meals to everyone\, for pick-up at the Unity Kitchen o
 n Hwy 12. No pre-registration required.
DTSTART;TZID=America/Los_Angeles:20240215T090000
DTEND;TZID=America/Los_Angeles:20240215T130000
LOCATION:17400 Sonoma Highway\, Sonoma\, CA 95476 US
SUMMARY:SOS Meals for Pick Up
END:VEVENT
END:VCALENDAR
