BEGIN:VCALENDAR
VERSION:2.0
PRODID:-//fishsonoma.org//NONSGML kigkonsult.se iCalcreator 2.30.10//
CALSCALE:GREGORIAN
METHOD:PUBLISH
UID:0553ca49-54ca-4f52-9beb-0a5122758b42
X-WR-CALDESC:Free hot meals to everyone\, for pick-up at the Unity Kitchen 
 on Hwy 12. No pre-registration required.
X-WR-RELCALID:c6a1394db488ef2ae56f8d09bb104c3f
X-WR-TIMEZONE:America/Los_Angeles
BEGIN:VTIMEZONE
TZID:America/Los_Angeles
BEGIN:STANDARD
TZNAME:PST
DTSTART:20231105T020000
TZOFFSETFROM:-0700
TZOFFSETTO:-0800
RDATE:20241103T020000
END:STANDARD
BEGIN:DAYLIGHT
TZNAME:PDT
DTSTART:20230312T020000
TZOFFSETFROM:-0800
TZOFFSETTO:-0700
RDATE:20240310T020000
RDATE:20250309T020000
END:DAYLIGHT
END:VTIMEZONE
BEGIN:VEVENT
UID:cc27517b-e30d-40a4-af7c-8f06eb3032fc
DTSTAMP:20260422T090728Z
DESCRIPTION:Free hot meals to everyone\, for pick-up at the Unity Kitchen o
 n Hwy 12. No pre-registration required.
DTSTART;TZID=America/Los_Angeles:20240206T090000
DTEND;TZID=America/Los_Angeles:20240206T130000
LOCATION:17400 Sonoma Highway\, Sonoma\, CA 95476 US
SUMMARY:SOS Meals for Pick Up
END:VEVENT
END:VCALENDAR
