BEGIN:VCALENDAR
VERSION:2.0
PRODID:-//fishsonoma.org//NONSGML kigkonsult.se iCalcreator 2.30.10//
CALSCALE:GREGORIAN
METHOD:PUBLISH
UID:9f2f3c4a-2024-453a-943f-0c0e59afb334
X-WR-CALDESC:Free hot meals to everyone\, for pick-up at Sonoma Springs Hal
 l. No pre-registration required.
X-WR-RELCALID:b0393f3aedac8b24545be517d398a31a
X-WR-TIMEZONE:America/Los_Angeles
BEGIN:VTIMEZONE
TZID:America/Los_Angeles
BEGIN:STANDARD
TZNAME:PST
DTSTART:20231105T020000
TZOFFSETFROM:-0700
TZOFFSETTO:-0800
RDATE:20241103T020000
END:STANDARD
BEGIN:DAYLIGHT
TZNAME:PDT
DTSTART:20230312T020000
TZOFFSETFROM:-0800
TZOFFSETTO:-0700
RDATE:20240310T020000
RDATE:20250309T020000
END:DAYLIGHT
END:VTIMEZONE
BEGIN:VEVENT
UID:699afb81-23be-4904-8bfa-297be7608f05
DTSTAMP:20260424T220704Z
DESCRIPTION:Free hot meals to everyone\, for pick-up at Sonoma Springs Hall
 . No pre-registration required.
DTSTART;TZID=America/Los_Angeles:20231129T090000
DTEND;TZID=America/Los_Angeles:20231129T130000
LOCATION:18627 Sonoma Highway\, Sonoma\, CA 95476 US
SUMMARY:SOS Meals for Pick Up
END:VEVENT
END:VCALENDAR
