BEGIN:VCALENDAR
VERSION:2.0
PRODID:-//fishsonoma.org//NONSGML kigkonsult.se iCalcreator 2.30.10//
CALSCALE:GREGORIAN
METHOD:PUBLISH
UID:4c2aebdf-ba02-454d-9324-7920a4606304
X-WR-CALDESC:Free hot meals to everyone\, for pick-up at Sonoma Springs Hal
 l. No pre-registration required.
X-WR-RELCALID:9d5be41ccd92463793e884859b3a30db
X-WR-TIMEZONE:America/Los_Angeles
BEGIN:VTIMEZONE
TZID:America/Los_Angeles
BEGIN:STANDARD
TZNAME:PST
DTSTART:20231105T020000
TZOFFSETFROM:-0700
TZOFFSETTO:-0800
RDATE:20241103T020000
END:STANDARD
BEGIN:DAYLIGHT
TZNAME:PDT
DTSTART:20230312T020000
TZOFFSETFROM:-0800
TZOFFSETTO:-0700
RDATE:20240310T020000
RDATE:20250309T020000
END:DAYLIGHT
END:VTIMEZONE
BEGIN:VEVENT
UID:a489fc7b-73c8-4440-997c-2c0b0bc40067
DTSTAMP:20260422T135111Z
DESCRIPTION:Free hot meals to everyone\, for pick-up at Sonoma Springs Hall
 . No pre-registration required.
DTSTART;TZID=America/Los_Angeles:20231117T090000
DTEND;TZID=America/Los_Angeles:20231117T130000
LOCATION:18627 Sonoma Highway\, Sonoma\, CA 95476 US
SUMMARY:SOS Meals for Pick Up
END:VEVENT
END:VCALENDAR
