BEGIN:VCALENDAR
VERSION:2.0
PRODID:-//fishsonoma.org//NONSGML kigkonsult.se iCalcreator 2.30.10//
CALSCALE:GREGORIAN
METHOD:PUBLISH
UID:3346d7a3-13ac-4eee-b44e-18bbf53385de
X-WR-CALDESC:Free hot meals to everyone\, for pick-up at Sonoma Springs Hal
 l. No pre-registration required.
X-WR-RELCALID:7e342ba7b35268758c7a161e484c2d9b
X-WR-TIMEZONE:America/Los_Angeles
BEGIN:VTIMEZONE
TZID:America/Los_Angeles
BEGIN:STANDARD
TZNAME:PST
DTSTART:20231105T020000
TZOFFSETFROM:-0700
TZOFFSETTO:-0800
RDATE:20241103T020000
END:STANDARD
BEGIN:DAYLIGHT
TZNAME:PDT
DTSTART:20230312T020000
TZOFFSETFROM:-0800
TZOFFSETTO:-0700
RDATE:20240310T020000
RDATE:20250309T020000
END:DAYLIGHT
END:VTIMEZONE
BEGIN:VEVENT
UID:20131955-cdd4-461d-b5ac-f71f62ae5e53
DTSTAMP:20260425T142158Z
DESCRIPTION:Free hot meals to everyone\, for pick-up at Sonoma Springs Hall
 . No pre-registration required.
DTSTART;TZID=America/Los_Angeles:20231110T090000
DTEND;TZID=America/Los_Angeles:20231110T130000
LOCATION:18627 Sonoma Highway\, Sonoma\, CA 95476 US
SUMMARY:SOS Meals for Pick Up
END:VEVENT
END:VCALENDAR
