BEGIN:VCALENDAR
VERSION:2.0
PRODID:-//fishsonoma.org//NONSGML kigkonsult.se iCalcreator 2.30.10//
CALSCALE:GREGORIAN
METHOD:PUBLISH
UID:9e0b0b45-6bbe-4b2d-8153-cf19da31b1b4
X-WR-CALDESC:Redwood Empire Food Bank distribution at Craig Ave. Baptist Ch
 urch.
X-WR-RELCALID:d007adfddd1a99258b63caf4b1390076
X-WR-TIMEZONE:America/Los_Angeles
BEGIN:VTIMEZONE
TZID:America/Los_Angeles
BEGIN:STANDARD
TZNAME:PST
DTSTART:20231105T020000
TZOFFSETFROM:-0700
TZOFFSETTO:-0800
RDATE:20241103T020000
END:STANDARD
BEGIN:DAYLIGHT
TZNAME:PDT
DTSTART:20230312T020000
TZOFFSETFROM:-0800
TZOFFSETTO:-0700
RDATE:20240310T020000
RDATE:20250309T020000
END:DAYLIGHT
END:VTIMEZONE
BEGIN:VEVENT
UID:90f5be42-8aef-4733-82a1-67db082cecdb
DTSTAMP:20260421T100204Z
DESCRIPTION:Redwood Empire Food Bank distribution at Craig Ave. Baptist Chu
 rch.
DTSTART;TZID=America/Los_Angeles:20231110T083000
DTEND;TZID=America/Los_Angeles:20231110T093000
LOCATION:18621 Railroad Ave\, Sonoma\, CA 95476 US
SUMMARY:REFB at Craig Ave
END:VEVENT
END:VCALENDAR
