BEGIN:VCALENDAR
VERSION:2.0
PRODID:-//fishsonoma.org//NONSGML kigkonsult.se iCalcreator 2.30.10//
CALSCALE:GREGORIAN
METHOD:PUBLISH
UID:f9458d0d-6dfd-440f-bb3f-20272e7e6a77
X-WR-CALDESC:Free hot meals to everyone\, for pick-up at Sonoma Springs Hal
 l. No pre-registration required.
X-WR-RELCALID:9752973bfa3150f9174e8599f6d89d92
X-WR-TIMEZONE:America/Los_Angeles
BEGIN:VTIMEZONE
TZID:America/Los_Angeles
BEGIN:STANDARD
TZNAME:PST
DTSTART:20231105T020000
TZOFFSETFROM:-0700
TZOFFSETTO:-0800
RDATE:20241103T020000
END:STANDARD
BEGIN:DAYLIGHT
TZNAME:PDT
DTSTART:20230312T020000
TZOFFSETFROM:-0800
TZOFFSETTO:-0700
RDATE:20240310T020000
RDATE:20250309T020000
END:DAYLIGHT
END:VTIMEZONE
BEGIN:VEVENT
UID:0393838c-3900-450e-b59b-2c6125fd846e
DTSTAMP:20260420T042023Z
DESCRIPTION:Free hot meals to everyone\, for pick-up at Sonoma Springs Hall
 . No pre-registration required.
DTSTART;TZID=America/Los_Angeles:20231109T090000
DTEND;TZID=America/Los_Angeles:20231109T130000
LOCATION:18627 Sonoma Highway\, Sonoma\, CA 95476 US
SUMMARY:SOS Meals for Pick Up
END:VEVENT
END:VCALENDAR
