BEGIN:VCALENDAR
VERSION:2.0
PRODID:-//fishsonoma.org//NONSGML kigkonsult.se iCalcreator 2.30.10//
CALSCALE:GREGORIAN
METHOD:PUBLISH
UID:54bde7c0-5fb9-4d90-92ea-fa42b8e769e8
X-WR-CALDESC:Redwood Empire Food Bank distribution
X-WR-RELCALID:f374a5e665fb1cddb491cbebdb062860
X-WR-TIMEZONE:America/Los_Angeles
BEGIN:VTIMEZONE
TZID:America/Los_Angeles
BEGIN:STANDARD
TZNAME:PST
DTSTART:20231105T020000
TZOFFSETFROM:-0700
TZOFFSETTO:-0800
RDATE:20241103T020000
END:STANDARD
BEGIN:DAYLIGHT
TZNAME:PDT
DTSTART:20230312T020000
TZOFFSETFROM:-0800
TZOFFSETTO:-0700
RDATE:20240310T020000
RDATE:20250309T020000
END:DAYLIGHT
END:VTIMEZONE
BEGIN:VEVENT
UID:975cad95-b1d3-43df-af71-440e1298f880
DTSTAMP:20260421T145317Z
DESCRIPTION:Redwood Empire Food Bank distribution
DTSTART;TZID=America/Los_Angeles:20231107T133000
DTEND;TZID=America/Los_Angeles:20231107T143000
LOCATION:1400 Watmaugh Rd\, Sonoma\, CA 95476 US
SUMMARY:REFB at 7 Flags Mobile Park
END:VEVENT
END:VCALENDAR
