BEGIN:VCALENDAR
VERSION:2.0
PRODID:-//fishsonoma.org//NONSGML kigkonsult.se iCalcreator 2.30.10//
CALSCALE:GREGORIAN
METHOD:PUBLISH
UID:461046ab-a8c0-4422-89b6-6d71a7380041
X-WR-CALDESC:Redwood Empire Food Bank distribution at Craig Ave. Baptist Ch
 urch.
X-WR-RELCALID:f7653bd0a1207c0568f929cf3a494ae2
X-WR-TIMEZONE:America/Los_Angeles
BEGIN:VTIMEZONE
TZID:America/Los_Angeles
BEGIN:STANDARD
TZNAME:PST
DTSTART:20221106T020000
TZOFFSETFROM:-0700
TZOFFSETTO:-0800
RDATE:20231105T020000
RDATE:20241103T020000
END:STANDARD
BEGIN:DAYLIGHT
TZNAME:PDT
DTSTART:20230312T020000
TZOFFSETFROM:-0800
TZOFFSETTO:-0700
RDATE:20240310T020000
RDATE:20250309T020000
END:DAYLIGHT
END:VTIMEZONE
BEGIN:VEVENT
UID:b8fd9ff8-1c5a-4b67-9338-d8f994e2e9e8
DTSTAMP:20260421T100150Z
DESCRIPTION:Redwood Empire Food Bank distribution at Craig Ave. Baptist Chu
 rch.
DTSTART;TZID=America/Los_Angeles:20230922T083000
DTEND;TZID=America/Los_Angeles:20230922T093000
LOCATION:18621 Railroad Ave\, Sonoma\, CA 95476 US
SUMMARY:REFB at Craig Ave
END:VEVENT
END:VCALENDAR
