BEGIN:VCALENDAR
VERSION:2.0
PRODID:-//fishsonoma.org//NONSGML kigkonsult.se iCalcreator 2.30.10//
CALSCALE:GREGORIAN
METHOD:PUBLISH
UID:37731bd4-34eb-4070-846a-21bfefabf19d
X-WR-CALDESC:Free hot meals to everyone\, for pick-up at Sonoma Springs Hal
 l. No pre-registration required.
X-WR-RELCALID:4c62be64d3b28d4ebab157c75cacd5b4
X-WR-TIMEZONE:America/Los_Angeles
BEGIN:VTIMEZONE
TZID:America/Los_Angeles
BEGIN:STANDARD
TZNAME:PST
DTSTART:20221106T020000
TZOFFSETFROM:-0700
TZOFFSETTO:-0800
RDATE:20231105T020000
RDATE:20241103T020000
END:STANDARD
BEGIN:DAYLIGHT
TZNAME:PDT
DTSTART:20230312T020000
TZOFFSETFROM:-0800
TZOFFSETTO:-0700
RDATE:20240310T020000
RDATE:20250309T020000
END:DAYLIGHT
END:VTIMEZONE
BEGIN:VEVENT
UID:83f3f32a-6a0c-4bf2-a79b-ba35f56a49b2
DTSTAMP:20260424T001506Z
DESCRIPTION:Free hot meals to everyone\, for pick-up at Sonoma Springs Hall
 . No pre-registration required.
DTSTART;TZID=America/Los_Angeles:20230911T090000
DTEND;TZID=America/Los_Angeles:20230911T130000
LOCATION:18627 Sonoma Highway\, Sonoma\, CA 95476 US
SUMMARY:SOS Meals for Pick Up
END:VEVENT
END:VCALENDAR
