BEGIN:VCALENDAR
VERSION:2.0
PRODID:-//fishsonoma.org//NONSGML kigkonsult.se iCalcreator 2.30.10//
CALSCALE:GREGORIAN
METHOD:PUBLISH
UID:bef46600-030b-4b6d-8527-d9cb309d376b
X-WR-CALDESC:3 days of groceries available weekdays from 1 p.m. - 2:30 p.m.
   Arrive in person (no need to call ahead).
X-WR-RELCALID:ed12c0ec153fb14e5e51b7c20a98ab6d
X-WR-TIMEZONE:America/Los_Angeles
BEGIN:VTIMEZONE
TZID:America/Los_Angeles
BEGIN:STANDARD
TZNAME:PST
DTSTART:20221106T020000
TZOFFSETFROM:-0700
TZOFFSETTO:-0800
RDATE:20231105T020000
RDATE:20241103T020000
END:STANDARD
BEGIN:DAYLIGHT
TZNAME:PDT
DTSTART:20230312T020000
TZOFFSETFROM:-0800
TZOFFSETTO:-0700
RDATE:20240310T020000
END:DAYLIGHT
END:VTIMEZONE
BEGIN:VEVENT
UID:a068386f-2f21-40c5-9996-f34176ae8358
DTSTAMP:20260425T170826Z
DESCRIPTION:3 days of groceries available weekdays from 1 p.m. - 2:30 p.m. 
  Arrive in person (no need to call ahead).
DTSTART;TZID=America/Los_Angeles:20230901T130000
DTEND;TZID=America/Los_Angeles:20230901T143000
LOCATION:469 3rd St West\, Sonoma\, CA 95476 US
SUMMARY:St Francis Food Pantry
END:VEVENT
END:VCALENDAR
