BEGIN:VCALENDAR
VERSION:2.0
PRODID:-//fishsonoma.org//NONSGML kigkonsult.se iCalcreator 2.30.10//
CALSCALE:GREGORIAN
METHOD:PUBLISH
UID:a3c0d94c-a649-4567-a711-318f9e4a42a3
X-WR-CALDESC:Come shop at the Clothes Closet for clothing for all ages\, fr
 ee of charge. No appointment needed.\nDonations of clean\, gently worn clo
 thing are also accepted at this time.
X-WR-RELCALID:be8b0a7145e05a0d02643e2a681aa482
X-WR-TIMEZONE:America/Los_Angeles
BEGIN:VTIMEZONE
TZID:America/Los_Angeles
BEGIN:STANDARD
TZNAME:PST
DTSTART:20261101T020000
TZOFFSETFROM:-0700
TZOFFSETTO:-0800
RDATE:20271107T020000
END:STANDARD
BEGIN:DAYLIGHT
TZNAME:PDT
DTSTART:20260308T020000
TZOFFSETFROM:-0800
TZOFFSETTO:-0700
RDATE:20270314T020000
RDATE:20280312T020000
END:DAYLIGHT
END:VTIMEZONE
BEGIN:VEVENT
UID:a2d97cf0-c516-46c1-adaf-2df79addd08e
DTSTAMP:20260424T153438Z
DESCRIPTION:Come shop at the Clothes Closet for clothing for all ages\, fre
 e of charge. No appointment needed.\nDonations of clean\, gently worn clot
 hing are also accepted at this time.
DTSTART;TZID=America/Los_Angeles:20261211T100000
DTEND;TZID=America/Los_Angeles:20261211T120000
LOCATION:18330 Highway 12\, Sonoma\, CA 95476 US
SUMMARY:FISH Clothing Closet Open
END:VEVENT
END:VCALENDAR
